BEGIN:VCALENDAR
VERSION:2.0
PRODID:-//Café Citoyen Chapelain - ECPv6.0.1.1//NONSGML v1.0//EN
CALSCALE:GREGORIAN
METHOD:PUBLISH
X-WR-CALNAME:Café Citoyen Chapelain
X-ORIGINAL-URL:https://cafe-citoyen-chapelain.fr
X-WR-CALDESC:Events for Café Citoyen Chapelain
REFRESH-INTERVAL;VALUE=DURATION:PT1H
X-Robots-Tag:noindex
X-PUBLISHED-TTL:PT1H
BEGIN:VTIMEZONE
TZID:Europe/Paris
BEGIN:DAYLIGHT
TZOFFSETFROM:+0100
TZOFFSETTO:+0200
TZNAME:CEST
DTSTART:20220327T010000
END:DAYLIGHT
BEGIN:STANDARD
TZOFFSETFROM:+0200
TZOFFSETTO:+0100
TZNAME:CET
DTSTART:20221030T010000
END:STANDARD
END:VTIMEZONE
BEGIN:VEVENT
DTSTART;TZID=Europe/Paris:20220428T203000
DTEND;TZID=Europe/Paris:20220428T223000
DTSTAMP:20260426T050209
CREATED:20211015T132511Z
LAST-MODIFIED:20211020T075814Z
UID:716-1651177800-1651185000@cafe-citoyen-chapelain.fr
SUMMARY:Université Populaire - Cycle « Des animaux et des hommes » - Séance 1 : « L’évolution du droit des animaux » (à confirmer)
DESCRIPTION:
URL:https://cafe-citoyen-chapelain.fr/evenement/universite-populaire-cycle-des-animaux-et-des-hommes-seance-1-levolution-du-droit-des-animaux-a-confirmer/
CATEGORIES:Université Populaire
END:VEVENT
END:VCALENDAR